BEGIN:VCALENDAR
VERSION:2.0
PRODID:-//217.160.0.161//NONSGML kigkonsult.se iCalcreator 2.20//
CALSCALE:GREGORIAN
METHOD:PUBLISH
X-WR-TIMEZONE:UTC
BEGIN:VEVENT
UID:event390@Your Joomla! Site
DTSTAMP:20260420T115133Z
CATEGORIES:Veranstaltung
DESCRIPTION:Kinderferienprogramm\nKategorie: Veranstaltung\nICS-Link: https
 ://nbav.net/index.php?option=com_jem&view=event&id=390:kinderferienprogram
 m\n
DTSTART:20260906T140000Z
DTEND:20260906T170000Z
LOCATION:Bogenplatz NBAV\,Graf-von-Düren-Straße\,74196 Neuenstadt am Kocher
SUMMARY:Kinderferienprogramm
URL:https://nbav.net/index.php?option=com_jem&view=event&id=390:kinderferie
 nprogramm
END:VEVENT
END:VCALENDAR