BEGIN:VCALENDAR
VERSION:2.0
PRODID:-//217.160.0.161//NONSGML kigkonsult.se iCalcreator 2.20//
CALSCALE:GREGORIAN
METHOD:PUBLISH
X-WR-TIMEZONE:UTC
BEGIN:VEVENT
UID:event303@Your Joomla! Site
DTSTAMP:20260420T115543Z
CATEGORIES:Vereinsaktionen
DESCRIPTION:Jugendtraining erst ab 18:00 Uhr\nKategorie: Vereinsaktionen\nI
 CS-Link: https://nbav.net/index.php?option=com_jem&view=event&id=303:jugen
 dtraining-erst-ab-18-00-uhr\n
DTSTART:20231020T180000Z
DTEND:20231020T180000Z
LOCATION:Stadthalle Neuenstadt\,Öhringer Str. 6\,74196 Neuenstadt am Kocher
SUMMARY:Jugendtraining erst ab 18:00 Uhr
URL:https://nbav.net/index.php?option=com_jem&view=event&id=303:jugendtrain
 ing-erst-ab-18-00-uhr
END:VEVENT
END:VCALENDAR